BEGIN:VCALENDAR
VERSION:2.0
PRODID:-//Saskatchewan Cycling Association - ECPv6.15.20//NONSGML v1.0//EN
CALSCALE:GREGORIAN
METHOD:PUBLISH
X-ORIGINAL-URL:https://saskcycling.ca
X-WR-CALDESC:Events for Saskatchewan Cycling Association
REFRESH-INTERVAL;VALUE=DURATION:PT1H
X-Robots-Tag:noindex
X-PUBLISHED-TTL:PT1H
BEGIN:VTIMEZONE
TZID:America/Regina
BEGIN:STANDARD
TZOFFSETFROM:-0600
TZOFFSETTO:-0600
TZNAME:CST
DTSTART:20190101T000000
END:STANDARD
END:VTIMEZONE
BEGIN:VEVENT
DTSTART;TZID=America/Regina:20200425T090000
DTEND;TZID=America/Regina:20200425T110000
DTSTAMP:20260420T104742
CREATED:20200416T165144Z
LAST-MODIFIED:20200430T154234Z
UID:11827-1587805200-1587812400@saskcycling.ca
SUMMARY:Lake to the Ridge Virtual Race #2
DESCRIPTION:Prairie Virtual Race Series #2- Lake to the Ridge Tech Pack. \nResults:
URL:https://saskcycling.ca/event/lake-to-ridge-virtual-race-2/
LOCATION:2205\, Canada
CATEGORIES:2023 Provincial Events
END:VEVENT
BEGIN:VEVENT
DTSTART;TZID=America/Regina:20200423T190000
DTEND;TZID=America/Regina:20200423T200000
DTSTAMP:20260420T104742
CREATED:20200422T185829Z
LAST-MODIFIED:20200422T202237Z
UID:11892-1587668400-1587672000@saskcycling.ca
SUMMARY:RGT Cycling  Tutorial.
DESCRIPTION:RGT Tutorial this Thursday 7 Pm on Zoom. \nTopic:  How to set up and register for a race in RGT cycling so can participate in Prairie Virtual Spring Series. \n\n1st Sask hosted RGT cycling event of the Prairie Virtual Spring Series is this Saturday\, at 9am\, starting from “virtual” Waskesiu.  Event name is “Lake to the Ridge”.\nSee SCA website for series details and event technical package.\n\nZoom Meeting Details \nTopic: RGT Virtual Cycling Platform “Basic” Tutorial on Zoom for SCA members.\nTime: Apr 23\, 2020 07:00 PM Saskatchewan \nJoin Zoom Meeting \nhttps://zoom.us/j/94252857303 \nMeeting ID: 942 5285 7303 \n  \n 
URL:https://saskcycling.ca/event/rgt-cycling-tutorial/
LOCATION:2205\, Canada
CATEGORIES:2023 Provincial Events
END:VEVENT
BEGIN:VEVENT
DTSTART;TZID=America/Regina:20200418T090000
DTEND;TZID=America/Regina:20200418T230000
DTSTAMP:20260420T104742
CREATED:20200415T235349Z
LAST-MODIFIED:20200521T214826Z
UID:11817-1587200400-1587250800@saskcycling.ca
SUMMARY:Spring Chicken Digital Virtual Series #1
DESCRIPTION:Prairie Virtual Race Series #1-  Technical Package
URL:https://saskcycling.ca/event/spring-chicken-digital-virtual-race-1/
LOCATION:2205\, Canada
CATEGORIES:2023 Provincial Events
END:VEVENT
BEGIN:VEVENT
DTSTART;TZID=America/Regina:20200403T180000
DTEND;TZID=America/Regina:20200403T210000
DTSTAMP:20260420T104742
CREATED:20200225T155110Z
LAST-MODIFIED:20200317T145245Z
UID:11660-1585936800-1585947600@saskcycling.ca
SUMMARY:Let's Ride! Cycling Community Initiation Coaching Course (cancelled)
DESCRIPTION:NCCP Let’s Ride! Cycling Community Initiation Coaching Course  \nUPDATE:  Due to COCID-19 this course that been cancelled.  We are looking into online options and will announce them when they are ready.  Thank you for understanding \nLet’s Ride! Community Cycling- Initiation (CCI) is the NCCP context for coaches who will primarily work with novice\, pre-competitive cyclists at the community level\, including participants in the Active Start\, FUNdamentals and early Learn to Train stages of athlete development. The program is simple\, based on a number of pre-designed lesson plans\, and adaptable to the varying skill and ability levels of participants. The focus of the program is on having participants develop skills which are basic to MTB\, BMX\, and Road\, in a controlled\, off-road\, off-trail setting such as a sport field or parking lot. \nCCI training has two parts – the “Let’s Ride!” CCI workshop (5 hrs)\, and a Basic Cycling Skills workshop (8 hrs). The first workshop provides information on ethical coaching\, participants and their needs\, basic practice planning\, equipment and other important information for coaches of beginner cyclists. The second workshop provides an opportunity for “on-bike” practice in skill teaching and analysis\, practice coaching and use of provided lesson plans. On completion\, coaches have “Trained” status in NCCP. \nRegina- April 3- 6:00-9:00pm and April 4- 9:00am-6:00pm \nInstructor: Mark Gibson \nCost:  $60 per person \nRSVP and payment due by March 27th.  Please email sarah@saskcycling.ca to register
URL:https://saskcycling.ca/event/lets-ride-cycling-community-initiation-coaching-course/
LOCATION:1920 Francis St\, 1920 Francis St\, Regina\, Saskatchewan\, S4N 6B3\, Canada
CATEGORIES:2023 Provincial Events
ATTACH;FMTTYPE=image/jpeg:https://saskcycling.ca/wp-content/uploads/2019/04/SASK-CYCLING-FINAL-LOGO2-white-1.jpg
END:VEVENT
BEGIN:VEVENT
DTSTART;TZID=America/Regina:20200329T093000
DTEND;TZID=America/Regina:20200329T110000
DTSTAMP:20260420T104742
CREATED:20200129T173524Z
LAST-MODIFIED:20200320T194047Z
UID:11497-1585474200-1585479600@saskcycling.ca
SUMMARY:SCA AGM
DESCRIPTION:It’s this time of year again!\nAs we continue to see social distancing due to the COVID-19 pandemic it has made us reevaluate our upcoming AGM.  This meeting will no longer be held as an in-person meeting.  Instead\, we will be using Zoom meetings.  Please find the appropriate numbers;\nSarah Honeysett is inviting you to a scheduled Zoom meeting. \nTopic: Sask Cycling AGM\nTime: Mar 29\, 2020 09:30 AM Saskatchewan \nJoin Zoom Meeting\nhttps://zoom.us/j/526564370 \nMeeting ID: 526 564 370 \nDial by your location\nMeeting ID: 526 564 370\nFind your local number: https://zoom.us/u/ayn7pbGUo \nFor this meeting\, when you sign in please use your first and last name as well as the club(s) you will be representing.  We will ask that you mute your audio on sign in to help eliminate any possible interference.  If you have a question or need to speak to something we ask that you post in the chat and we will have a moderator monitoring the chat.  If you are speaking please speak your name clearly for the minutes.  For elections\, if there is more than one person elected we will be doing elections electronically.  We will post in the chat a link to take you to vote.  We will then post the results of the elections once voting has commenced.  We are optimistic this should not take much more time than normal. \nTo make this process go quicker we recommend that you download zoom beforehand.  Please test your video and audio.  Audio may work best with headphones to eliminate background noise.  If you do not have access to a computer with video please make use of the teleconference that is listed above. \nPlease have patience with us if this does not go as expected.  We have tested this beforehand\, but it is new to us so we may not get it right on the first try.  We are all doing our best during this difficult situation. \nPlease have these documents ready during the AGM.  We will be using this AGM package  and approving the 2019 SCA Financials. \nAt this point in time we will not be having the awards presentations at the AGM.  They will be postponed\, most likely until the Fall Membership Meeting. \nPlease contact the office if you have any questions or concerns. \nNominations are open for positions on the Board of Directors of Saskatchewan Cycling. \nFor the Board\, there are 3 positions that are up for election. The VP Finance/Admin\, the VP High Performance and the VP Technical are the positions that will be voted on.  As for the committees\, there are several positions up for election on each committee’s and nominations will be accepted from the floor. \nThe nomination form can be found here. Please note that the dates to return the forms for the Board elections are March 15th. \nFor more information\, please do not hesitate to call the office. \nYou must be a 2020 member of Sask Cycling to vote at the AGM. \nFull list of positions up for re-election \n\nVice President High Performance\nVice President Finance/Admin\nVice President Technical\nTechnical Committee: Chief MTB Racing Commissaire\nTechnical Committee:  Chief BMX Racing Commissaire- one year position\nTechnical Committee: Active Licensed Rider\nDevelopment Committee: Member\nDevelopment Committee- Representative\nHigh Performance Committee: Director of Road Programs\nHigh Performance- Director of Women’s Programs\nRecreation and Transportation Committee: Education Coordinator\nRecreation and Transportation Committee: Director Recreation MTB
URL:https://saskcycling.ca/event/sca-agm/
LOCATION:2205\, Canada
CATEGORIES:2023 Provincial Events
END:VEVENT
BEGIN:VEVENT
DTSTART;TZID=America/Regina:20200320T173000
DTEND;TZID=America/Regina:20200320T200000
DTSTAMP:20260420T104742
CREATED:20200305T170914Z
LAST-MODIFIED:20200317T145110Z
UID:11682-1584725400-1584734400@saskcycling.ca
SUMMARY:NCCP Let’s Ride! Cycling Community Initiation Coaching Course (cancelled)
DESCRIPTION:NCCP Let’s Ride! Cycling Community Initiation Coaching Course  \nUPDATE:  Due to COCID-19 this course that been cancelled.  We are looking into online options and will announce them when they are ready.  Thank you for understanding \nLet’s Ride! Community Cycling- Initiation (CCI) is the NCCP context for coaches who will primarily work with novice\, pre-competitive cyclists at the community level\, including participants in the Active Start\, FUNdamentals and early Learn to Train stages of athlete development. The program is simple\, based on a number of pre-designed lesson plans\, and adaptable to the varying skill and ability levels of participants. The focus of the program is on having participants develop skills which are basic to MTB\, BMX\, and Road\, in a controlled\, off-road\, off-trail setting such as a sport field or parking lot. \nCCI training has two parts – the “Let’s Ride!” CCI workshop (5 hrs)\, and a Basic Cycling Skills workshop (8 hrs). The first workshop provides information on ethical coaching\, participants and their needs\, basic practice planning\, equipment and other important information for coaches of beginner cyclists. The second workshop provides an opportunity for “on-bike” practice in skill teaching and analysis\, practice coaching and use of provided lesson plans. On completion\, coaches have “Trained” status in NCCP. \nSaskatoon- March 20- 5:30-8:00pm and March 21- 8:30am-7:00pm \nInstructor: Susan Clarke \nCost:  $60 per person \nRSVP and payment due by March 16th.  Please email sarah@saskcycling.ca to register
URL:https://saskcycling.ca/event/nccp-lets-ride-cycling-community-initiation-coaching-course/
LOCATION:2205\, Canada
CATEGORIES:2023 Provincial Events
ATTACH;FMTTYPE=image/jpeg:https://saskcycling.ca/wp-content/uploads/2019/04/SASK-CYCLING-FINAL-LOGO2-white-1.jpg
END:VEVENT
BEGIN:VEVENT
DTSTART;TZID=America/Regina:20200315T093000
DTEND;TZID=America/Regina:20200315T160000
DTSTAMP:20260420T104742
CREATED:20200115T212458Z
LAST-MODIFIED:20200115T231753Z
UID:11417-1584264600-1584288000@saskcycling.ca
SUMMARY:Road Commissaire "C" Course
DESCRIPTION:Want to become involved in Cycling in a new way? Become a Saskatchewan Cycling Commissaire!\nThe Road Commissaire ‘C’ course is a one day introduction to officiating in the road discipline. \nBecoming a cycling commissaire is an excellent way for racers and enthusiasts to gain a deeper understanding of cycling and broaden their involvement in the sport they love. As a commissaire\, you are able to represent Saskatchewan Cycling as a trained professional to ensure fair and safe competition. There are opportunities for paid travel and advancement from provincial to national and international certification. \nWhile many course participants will go on to train under the supervision of an experienced national commissaire\, others might choose to take the course simply to augment their knowledge of the sport and to develop as a coach\, team manager\, or race organizer. All are welcome! \nProspective commissaires should be computer-literate in order to complete administration functions and interact with race technology. Strong communication skills are needed in order to enable prompt exchanges\, provide clear instructions and give honest feedback. \nIn order to complete your Commissaire Course you must work under an experienced Commissaire as a TA.  The event that is targeted for this is TBA. \nInstructor:  Karen Cranston \nRSVP to Saskatchewan Cycling\, sarah@saskcycling.ca by March 6th
URL:https://saskcycling.ca/event/road-commissaire-c-course/
LOCATION:510 Cynthia St\, Saskatoon\, SK\, 510 Cynthia St\, Saskatoon\, Saskatchewan\, S7L 7K7\, Canada
CATEGORIES:2020 Provincial Events,2023 Provincial Events
END:VEVENT
BEGIN:VEVENT
DTSTART;VALUE=DATE:20200201
DTEND;VALUE=DATE:20200202
DTSTAMP:20260420T104742
CREATED:20200123T201653Z
LAST-MODIFIED:20200123T201653Z
UID:11487-1580515200-1580601599@saskcycling.ca
SUMMARY:Winter Time Trial Series - Event #4 - HPL Cycling
DESCRIPTION:Announcing a first of it’s kind.  The Winter Time Trial Series is a Provincial cycling event hosted by HPL Cycling with a lot of help from Dutch Cycle\, The Bike Doctor\, Western Cycle\, Fresh Air Experience – Prince Albert\, Bruce’s Cycle Works\, and the Rock n’ Road Cycling Club. \n\n.\nEvery four weeks you will have the opportunity to sign up for a FREE time trial at one of our host locations.  It’s just you and your bike versus a Strava segment in Zwift.  Take part to support the Saskatchewan cycling scene and monitor your fitness.  Or compete to take home the Winter Time Trial Series Championship!\n.\nIt’s free\, no memberships or insurance needed\, you don’t even need your own Strava account or subscription to Zwift!  We will handle all of those details.  All you need to do is choose a time at the location your prefer\, and ride your race of truth.\n.\nFull details and registration links can be found at www.HPLcycling.ca/winter-time-trial-series \n.\nAny questions email info@hplcycling.ca or contact your participating bike shop.
URL:https://saskcycling.ca/event/winter-time-trial-series-event-4-hpl-cycling/
LOCATION:2205\, Canada
CATEGORIES:2020 Club Events,2023 Provincial Events
ATTACH;FMTTYPE=image/jpeg:https://saskcycling.ca/wp-content/uploads/2019/10/WTT2.jpg
ORGANIZER;CN="HPL Cycling":MAILTO:info@hplcycling.ca
END:VEVENT
BEGIN:VEVENT
DTSTART;TZID=America/Regina:20200104T100000
DTEND;TZID=America/Regina:20200104T170000
DTSTAMP:20260420T104743
CREATED:20191218T144911Z
LAST-MODIFIED:20200312T053432Z
UID:11365-1578132000-1578157200@saskcycling.ca
SUMMARY:Winter Time Trial Series - Event #3
DESCRIPTION:Announcing a first of it’s kind.  The Winter Time Trial Series is a Provincial cycling event hosted by HPL Cycling with a lot of help from Dutch Cycle\, The Bike Doctor\, Western Cycle\, Fresh Air Experience – Prince Albert\, Bruce’s Cycle Works\, and the Rock n’ Road Cycling Club. \n\n.\nEvery four weeks you will have the opportunity to sign up for a FREE time trial at one of our host locations.  It’s just you and your bike versus a Strava segment in Zwift.  Take part to support the Saskatchewan cycling scene and monitor your fitness.  Or compete to take home the Winter Time Trial Series Championship!\n.\nIt’s free\, no memberships or insurance needed\, you don’t even need your own Strava account or subscription to Zwift!  We will handle all of those details.  All you need to do is choose a time at the location your prefer\, and ride your race of truth.\n.\nFull details and registration links can be found at www.HPLcycling.ca/winter-time-trial-series \n.\nAny questions email info@hplcycling.ca or contact your participating bike shop.
URL:https://saskcycling.ca/event/winter-time-trial-series-event-3/
LOCATION:2205\, Canada
CATEGORIES:2020 Club Events,2020 Provincial Events,2021 Club Events,2023 Provincial Events
ATTACH;FMTTYPE=image/jpeg:https://saskcycling.ca/wp-content/uploads/2019/10/WTT2.jpg
ORGANIZER;CN="HPL Cycling":MAILTO:info@hplcycling.ca
END:VEVENT
END:VCALENDAR