BEGIN:VCALENDAR
VERSION:2.0
PRODID:-//Saskatchewan Cycling Association - ECPv6.15.20//NONSGML v1.0//EN
CALSCALE:GREGORIAN
METHOD:PUBLISH
X-ORIGINAL-URL:https://saskcycling.ca
X-WR-CALDESC:Events for Saskatchewan Cycling Association
REFRESH-INTERVAL;VALUE=DURATION:PT1H
X-Robots-Tag:noindex
X-PUBLISHED-TTL:PT1H
BEGIN:VTIMEZONE
TZID:America/Regina
BEGIN:STANDARD
TZOFFSETFROM:-0600
TZOFFSETTO:-0600
TZNAME:CST
DTSTART:20190101T000000
END:STANDARD
END:VTIMEZONE
BEGIN:VEVENT
DTSTART;TZID=America/Regina:20210412T190000
DTEND;TZID=America/Regina:20210412T200000
DTSTAMP:20260420T091411
CREATED:20210303T181436Z
LAST-MODIFIED:20210304T154027Z
UID:12338-1618254000-1618257600@saskcycling.ca
SUMMARY:Mental Performance Goals
DESCRIPTION:This workshop will focus on educating on goal setting\, setting realistic short term & long-term goals\, and monitoring goals. \nJoin Zoom Meeting \nhttps://us02web.zoom.us/j/82822094475?pwd=S21RVGdIeEFwbWRhRU9jczFTSDhOQT09 \nMeeting ID: 828 2209 4475 \nPasscode: 823017
URL:https://saskcycling.ca/event/mental-performance-goals/
LOCATION:https://us02web.zoom.us/j/82822094475?pwd=S21RVGdIeEFwbWRhRU9jczFTSDhOQT09
CATEGORIES:2023 Provincial Events
END:VEVENT
BEGIN:VEVENT
DTSTART;TZID=America/Regina:20210407T190000
DTEND;TZID=America/Regina:20210407T200000
DTSTAMP:20260420T091411
CREATED:20210303T180948Z
LAST-MODIFIED:20210304T154035Z
UID:12335-1617822000-1617825600@saskcycling.ca
SUMMARY:Self-Massage and the Athlete
DESCRIPTION:Join Al Bodnarchuk\, as he provides tips on self-massage and how it can keep the athlete healthy \nJoin Zoom Meeting\nhttps://us02web.zoom.us/j/81921575579?pwd=a0wzWThSa2ZmTUg4WmtnRnk3cXc0UT09\nMeeting ID: 819 2157 5579\nPasscode: 653398
URL:https://saskcycling.ca/event/self-massage-and-the-athlete/
LOCATION:https://us02web.zoom.us/j/81921575579?pwd=a0wzWThSa2ZmTUg4WmtnRnk3cXc0UT09
CATEGORIES:2023 Provincial Events
END:VEVENT
BEGIN:VEVENT
DTSTART;TZID=America/Regina:20210331T190000
DTEND;TZID=America/Regina:20210331T200000
DTSTAMP:20260420T091411
CREATED:20210303T180458Z
LAST-MODIFIED:20210303T180519Z
UID:12332-1617217200-1617220800@saskcycling.ca
SUMMARY:Sport-Specific Injury Prevention
DESCRIPTION:This workshop aims to go over the common injuries that are in sports\, as well as common injuries in cycling.  Kristie Mueller will be leading this session. \nJoin Zoom Meeting \nhttps://us02web.zoom.us/j/81856067978?pwd=dEk5UG82WGxZcERmdU9sYndydTVtZz09 \nMeeting ID: 818 5606 7978 \nPasscode: 802488 \n 
URL:https://saskcycling.ca/event/sport-specific-injury-prevention/
LOCATION:https://us02web.zoom.us/j/81856067978?pwd=dEk5UG82WGxZcERmdU9sYndydTVtZz09
CATEGORIES:2023 Provincial Events
END:VEVENT
BEGIN:VEVENT
DTSTART;TZID=America/Regina:20210328T093000
DTEND;TZID=America/Regina:20210328T103000
DTSTAMP:20260420T091411
CREATED:20210210T195538Z
LAST-MODIFIED:20210316T203014Z
UID:12296-1616923800-1616927400@saskcycling.ca
SUMMARY:2021 SCA AGM
DESCRIPTION:The 2021 Saskatchewan Cycling Associations AGM will be held on March 28th\, 2021 @9:30am virtually. The agenda for the AGM will consist of approval of the approval of the 2020 Financial audit\, appointment of auditor\, and execution of the election of Directors of the board and committees. \n\nRegistration is currently open for this event.  Please register by 5:00pm on March 26.  Register here \n\nThis year the board sees 3 positions up for election as per our bylaws. Any SCA 2021 issued membership holder\, who wishes to volunteer their time as a Director please review the Nomination form.  Nominations will be open for: \n\nPresident\nVice President Recreation & Transportation\nVice President Development\n\n** Only those members that hold a valid 2021 membership will be eligible to vote** \nDeadline for Nominations Forms:  to be submitted is Monday March 15th @ 5:00pm via email to sarah@saskcycling.ca \n\n\n\n\n0
URL:https://saskcycling.ca/event/2021-sca-agm/
LOCATION:2205\, Canada
CATEGORIES:2023 Provincial Events
END:VEVENT
BEGIN:VEVENT
DTSTART;TZID=America/Regina:20210324T190000
DTEND;TZID=America/Regina:20210324T200000
DTSTAMP:20260420T091411
CREATED:20210303T173346Z
LAST-MODIFIED:20210303T173915Z
UID:12329-1616612400-1616616000@saskcycling.ca
SUMMARY:Injury Prevention warm-up/cool down
DESCRIPTION:Adrienne Stinson is a sports therapist with Craven Sports in Saskatoon.  She will be leading the discussion on injury prevention.  Then will be going over some appropriate warm-up/cool down poses for cyclists. \n  \nTopic: Injury Prevention warm-up/cool down \nTime: Mar 24\, 2021 07:00 PM Saskatchewan \nJoin Zoom Meeting \nhttps://us02web.zoom.us/j/86261477009?pwd=WW1FQU8wU1U0SDhDNm9vTWcyQkVqUT09 \nMeeting ID: 862 6147 7009 \nPasscode: 253962
URL:https://saskcycling.ca/event/injury-prevention-warm-up-cool-down/
LOCATION:https://us02web.zoom.us/j/86261477009?pwd=WW1FQU8wU1U0SDhDNm9vTWcyQkVqUT09
CATEGORIES:2023 Provincial Events
END:VEVENT
BEGIN:VEVENT
DTSTART;TZID=America/Regina:20201108T100000
DTEND;TZID=America/Regina:20201108T120000
DTSTAMP:20260420T091411
CREATED:20201023T193744Z
LAST-MODIFIED:20201023T193744Z
UID:12204-1604829600-1604836800@saskcycling.ca
SUMMARY:Provincial+ Zwift Group Ride - Nov 8
DESCRIPTION:Welcome back to the Provincial+ Zwift Group Rides.\nThis will be a “keep together” ride on Watopia’s Figure 8 Reverse course.\n\nRide length will be determined by time and is set to be two hours long.\nJoin up to 30 minutes after the start time and leave whenever it suits you.\n\nAs always\, we will be on discord which will help us work to stay together. Information on how we use discord to communicate can be found here: https://www.hplcycling.ca/zwift-group-rides\n\nPaul Cutting is hosting so follow him on Zwift for your meetup invite.
URL:https://saskcycling.ca/event/provincial-zwift-group-ride-nov-8/
LOCATION:2205\, Canada
CATEGORIES:2020 Club Events,2023 Provincial Events
ATTACH;FMTTYPE=image/jpeg:https://saskcycling.ca/wp-content/uploads/2020/10/nov-8_2020.jpg
ORGANIZER;CN="HPL Cycling":MAILTO:info@hplcycling.ca
END:VEVENT
BEGIN:VEVENT
DTSTART;TZID=America/Regina:20201017T080000
DTEND;TZID=America/Regina:20201018T170000
DTSTAMP:20260420T091411
CREATED:20200117T174850Z
LAST-MODIFIED:20200914T182214Z
UID:11469-1602921600-1603040400@saskcycling.ca
SUMMARY:Regina Cross Sk Cup 3 & Provincials (cancelled)
DESCRIPTION:RCC is hosting Sk Cup #3 and Provincials
URL:https://saskcycling.ca/event/regina-cross-sk-cup-3-provincials/
LOCATION:Regina\, Regina\, SK\, S4P0S4\, Canada
CATEGORIES:2023 Provincial Events
END:VEVENT
BEGIN:VEVENT
DTSTART;TZID=America/Regina:20201003T080000
DTEND;TZID=America/Regina:20201004T170000
DTSTAMP:20260420T091411
CREATED:20200117T174700Z
LAST-MODIFIED:20200914T182231Z
UID:11467-1601712000-1601830800@saskcycling.ca
SUMMARY:Saskatoon Cross Sk Cup 1 & 2 (cancelled)
DESCRIPTION:Cycledelia’s double cross weekend
URL:https://saskcycling.ca/event/saskatoon-cross-sk-cup-1-3/
LOCATION:Saskatoon\, SK\, Saskatchewan\, Canada
CATEGORIES:2023 Provincial Events
END:VEVENT
BEGIN:VEVENT
DTSTART;TZID=America/Regina:20200829T080000
DTEND;TZID=America/Regina:20200830T170000
DTSTAMP:20260420T091411
CREATED:20200117T174518Z
LAST-MODIFIED:20200724T201827Z
UID:11464-1598688000-1598806800@saskcycling.ca
SUMMARY:Warman BMX Grands & Provincials (cancelled)
DESCRIPTION:Diamond BMX is hosting this year’s Grands and Provincials in BMX
URL:https://saskcycling.ca/event/warman-bmx-grands-provincials/
LOCATION:Diamond BMX Track\, S Railway St\, Warman\, Saskatchewan\, S0K 0A1\, Canada
CATEGORIES:2023 Provincial Events
END:VEVENT
BEGIN:VEVENT
DTSTART;TZID=America/Regina:20200823T080000
DTEND;TZID=America/Regina:20200823T170000
DTSTAMP:20260420T091411
CREATED:20200117T174257Z
LAST-MODIFIED:20200724T201805Z
UID:11460-1598169600-1598202000@saskcycling.ca
SUMMARY:Buffalo Pounder- MTB Provincials Sk Cup #6 (cancelled)
DESCRIPTION:Moose Jaw Pavers are hosting Provincials for MTB
URL:https://saskcycling.ca/event/buffalo-pounder-mtb-provincials-sk-cup-6/
LOCATION:Buffalo Pound Provincial Park\, Marquis No. 191\, Saskatchewan\, S0H 4C0\, Canada
CATEGORIES:2023 Provincial Events
END:VEVENT
BEGIN:VEVENT
DTSTART;TZID=America/Regina:20200808T080000
DTEND;TZID=America/Regina:20200809T170000
DTSTAMP:20260420T091411
CREATED:20200117T173956Z
LAST-MODIFIED:20200724T201737Z
UID:11456-1596873600-1596992400@saskcycling.ca
SUMMARY:Regina BMX Sk Cup #2 (cancelled)
DESCRIPTION:13th Ave BMX is hosting it’s first Sk Cup Race!
URL:https://saskcycling.ca/event/regina-bmx-sk-cup-2/
LOCATION:13th Ave BMX\, 5310 13th Ave\, Regina\, Saskatchewan\, S4W 1B6\, Canada
CATEGORIES:2023 Provincial Events
END:VEVENT
BEGIN:VEVENT
DTSTART;VALUE=DATE:20200801
DTEND;VALUE=DATE:20200803
DTSTAMP:20260420T091411
CREATED:20200710T160905Z
LAST-MODIFIED:20200722T142929Z
UID:12128-1596240000-1596412799@saskcycling.ca
SUMMARY:Women's Only MTB Bike Fest Series (cancelled)
DESCRIPTION:
URL:https://saskcycling.ca/event/womens-only-mtb-bike-fest-series/
LOCATION:Buffalo Pound Provincial Park\, Marquis No. 191\, Saskatchewan\, S0H 4C0\, Canada
CATEGORIES:2020 Provincial Events,2023 Provincial Events
END:VEVENT
BEGIN:VEVENT
DTSTART;TZID=America/Regina:20200725T080000
DTEND;TZID=America/Regina:20200726T170000
DTSTAMP:20260420T091411
CREATED:20200117T173729Z
LAST-MODIFIED:20200716T221628Z
UID:11454-1595664000-1595782800@saskcycling.ca
SUMMARY:Road Provincials- 15K ITT & Road Race (Cancelled)
DESCRIPTION:Esterhazy is hosting the second and final weekend of Road Provincials
URL:https://saskcycling.ca/event/road-provincials-15k-itt-road-race/
LOCATION:Esterhazy\, Saskatchewan\, Canada
CATEGORIES:2023 Provincial Events
END:VEVENT
BEGIN:VEVENT
DTSTART;TZID=America/Regina:20200719T080000
DTEND;TZID=America/Regina:20200719T170000
DTSTAMP:20260420T091411
CREATED:20200117T173555Z
LAST-MODIFIED:20200716T221834Z
UID:11451-1595145600-1595178000@saskcycling.ca
SUMMARY:Blackstrap Biter Sk Cup MTB #5 (Cancelled)
DESCRIPTION:BCW/NBR are hosting the annual Blackstrap Biter
URL:https://saskcycling.ca/event/blackstrap-biter-sk-cup-mtb-5/
LOCATION:Blackstrap Provincial Park\, Dundurn\, SK\, S0K 1K0\, Canada
CATEGORIES:2023 Provincial Events
END:VEVENT
BEGIN:VEVENT
DTSTART;TZID=America/Regina:20200704T080000
DTEND;TZID=America/Regina:20200705T170000
DTSTAMP:20260420T091411
CREATED:20200117T173214Z
LAST-MODIFIED:20200716T221914Z
UID:11445-1593849600-1593968400@saskcycling.ca
SUMMARY:Saskatoon Sk Cup BMX #1 (Cancelled)
DESCRIPTION:Globe BMX is hosting the first Sk Cup event of the season
URL:https://saskcycling.ca/event/saskatoon-sk-cup-bmx-1/
LOCATION:1535 McKercher Dr\, 1535 McKercher Dr\, Saskatoon\, Saskatchewan\, S7H 5L3\, Canada
CATEGORIES:2023 Provincial Events
END:VEVENT
BEGIN:VEVENT
DTSTART;TZID=America/Regina:20200628T080000
DTEND;TZID=America/Regina:20200628T170000
DTSTAMP:20260420T091411
CREATED:20200117T172847Z
LAST-MODIFIED:20200602T141456Z
UID:11442-1593331200-1593363600@saskcycling.ca
SUMMARY:Rock N Road Sk Cup MTB #4 (cancelled)
DESCRIPTION:Rock N Road is hosting this event
URL:https://saskcycling.ca/event/rock-n-road-sk-cup-mtb-4/
LOCATION:Prince Albert\, Saskatchewan\, Canada
CATEGORIES:2023 Provincial Events
END:VEVENT
BEGIN:VEVENT
DTSTART;TZID=America/Regina:20200620T080000
DTEND;TZID=America/Regina:20200621T170000
DTSTAMP:20260420T091411
CREATED:20200117T173355Z
LAST-MODIFIED:20200716T222030Z
UID:11449-1592640000-1592758800@saskcycling.ca
SUMMARY:Road Provincials- 40K ITT & Crit (cancelled)
DESCRIPTION:Cycledelia is hosting the first weekend of Road Provincials
URL:https://saskcycling.ca/event/road-provincials-40k-itt-crit/
LOCATION:Saskatoon\, SK\, Saskatchewan\, Canada
CATEGORIES:2023 Provincial Events
END:VEVENT
BEGIN:VEVENT
DTSTART;TZID=America/Regina:20200610T180000
DTEND;TZID=America/Regina:20200610T190000
DTSTAMP:20260420T091412
CREATED:20200521T143019Z
LAST-MODIFIED:20200609T144309Z
UID:12017-1591812000-1591815600@saskcycling.ca
SUMMARY:Insurance Q&A
DESCRIPTION:A big benefit to joining the SCA is our insurance program for all of our members. If you have ever wondered anything about our insurance policy this next webinar is for you! SCA invites you to an insurance Q&A. The SCA is joining with Alberta Bicycle Association\, Manitoba Cycling Association and Ontario Cycling Association to ask all of your insurance questions. We will be collecting all the questions we receive and will be answering them live on a zoom webinar on June 10th at 6 pm (8EST). Please email your questions to sarah@saskcycling.ca. Questions must be in by June 6th. \nWebinar: https://us02web.zoom.us/j/85047260916?pwd=Qno1UU1qL3d1b1E2OGcrSGsweXFRUT09\nPassword: 932645
URL:https://saskcycling.ca/event/insurance-qa/
LOCATION:2205\, Canada
CATEGORIES:2023 Provincial Events
END:VEVENT
BEGIN:VEVENT
DTSTART;TZID=America/Regina:20200607T080000
DTEND;TZID=America/Regina:20200607T170000
DTSTAMP:20260420T091412
CREATED:20200117T172719Z
LAST-MODIFIED:20200403T155512Z
UID:11438-1591516800-1591549200@saskcycling.ca
SUMMARY:EQC's Kapo Kraze Sk Cup MTB #3- Cancelled
DESCRIPTION:EQC  is hosting Kapo Kraze- Cancelled until further notice
URL:https://saskcycling.ca/event/grannys-twister-sk-cup-mtb-3/
LOCATION:Esterhazy\, Saskatchewan\, Canada
CATEGORIES:2023 Provincial Events
END:VEVENT
BEGIN:VEVENT
DTSTART;TZID=America/Regina:20200606T090000
DTEND;TZID=America/Regina:20200606T110000
DTSTAMP:20260420T091412
CREATED:20200416T172043Z
LAST-MODIFIED:20200605T174911Z
UID:11847-1591434000-1591441200@saskcycling.ca
SUMMARY:Prairie Ear Popper Classic Digital Virtual Race #8
DESCRIPTION:Prairie Virtual Spring Series #8- Technical Package 
URL:https://saskcycling.ca/event/prairie-ear-popper-classic-digital-virtual-race-8/
LOCATION:2205\, Canada
CATEGORIES:2020 Provincial Events,2023 Provincial Events
END:VEVENT
BEGIN:VEVENT
DTSTART;TZID=America/Regina:20200530T090000
DTEND;TZID=America/Regina:20200530T110000
DTSTAMP:20260420T091412
CREATED:20200416T171854Z
LAST-MODIFIED:20200530T045250Z
UID:11844-1590829200-1590836400@saskcycling.ca
SUMMARY:Pembina Hell Digital Virtual Race Series #7
DESCRIPTION:Prairie Virtual Spring Series #7- Technical Package
URL:https://saskcycling.ca/event/pembina-hell-digital-virtual-race-series-7/
LOCATION:2205\, Canada
CATEGORIES:2023 Provincial Events
END:VEVENT
BEGIN:VEVENT
DTSTART;TZID=America/Regina:20200530T080000
DTEND;TZID=America/Regina:20200531T170000
DTSTAMP:20260420T091412
CREATED:20200117T172506Z
LAST-MODIFIED:20200403T154553Z
UID:11434-1590825600-1590944400@saskcycling.ca
SUMMARY:Tour de Sask Sk Cup Road #2-Cancelled
DESCRIPTION:Cycledelia is hosting the Tour de Sask- Cancelled until further notice
URL:https://saskcycling.ca/event/tour-de-sask-sk-cup-road-2/
LOCATION:Saskatoon\, SK\, Saskatchewan\, Canada
CATEGORIES:2023 Provincial Events
END:VEVENT
BEGIN:VEVENT
DTSTART;TZID=America/Regina:20200524T080000
DTEND;TZID=America/Regina:20200524T170000
DTSTAMP:20260420T091412
CREATED:20200117T172249Z
LAST-MODIFIED:20200403T154408Z
UID:11432-1590307200-1590339600@saskcycling.ca
SUMMARY:Antelope Bonker Sk Cup MTB #2-Cancelled
DESCRIPTION:Swift Current Cycling Club is hosting the Antelope Bonker on their brand new course- Cancelled until further notice
URL:https://saskcycling.ca/event/antelope-bonker-sk-cup-mtb-2/
LOCATION:Swift Current\, Saskatchewan\, Canada
CATEGORIES:2023 Provincial Events
END:VEVENT
BEGIN:VEVENT
DTSTART;TZID=America/Regina:20200523T090000
DTEND;TZID=America/Regina:20200523T110000
DTSTAMP:20260420T091412
CREATED:20200416T171626Z
LAST-MODIFIED:20200521T211913Z
UID:11841-1590224400-1590231600@saskcycling.ca
SUMMARY:Saw-Whet Scrimmage Virtual Spring Series Race  #6
DESCRIPTION:Saw-Whet Scrimmage Race Package PDF \n 
URL:https://saskcycling.ca/event/sa-whet-scrimmage-digital-virtual-race-series-6/
LOCATION:2205\, Canada
CATEGORIES:2020 Provincial Events,2023 Provincial Events
END:VEVENT
BEGIN:VEVENT
DTSTART;TZID=America/Regina:20200516T090000
DTEND;TZID=America/Regina:20200516T110000
DTSTAMP:20260420T091412
CREATED:20200416T171009Z
LAST-MODIFIED:20200521T214436Z
UID:11837-1589619600-1589626800@saskcycling.ca
SUMMARY:Cabin Fever Dash Virtual Race #5.  Tech package attached below.
DESCRIPTION:Prairie Virtual Spring Series – Cabin Fever Dash Technical Guide (May 16’20) Prairie Virtual Spring Series #5.
URL:https://saskcycling.ca/event/cabin-fever-dash-digital-virtual-race-5/
LOCATION:2205\, Canada
CATEGORIES:2023 Provincial Events
END:VEVENT
BEGIN:VEVENT
DTSTART;TZID=America/Regina:20200510T080000
DTEND;TZID=America/Regina:20200510T170000
DTSTAMP:20260420T091412
CREATED:20200117T172112Z
LAST-MODIFIED:20200330T144051Z
UID:11430-1589097600-1589130000@saskcycling.ca
SUMMARY:Wascana Challenge Sk Cup MTB #1 (cancelled)
DESCRIPTION:ORS is hosting the annual Wascana Challenge (cancelled)
URL:https://saskcycling.ca/event/wascana-challenge-sk-cup-mtb-1/
LOCATION:ORS Wascana Trails\, Regina\, Canada
CATEGORIES:2023 Provincial Events
END:VEVENT
BEGIN:VEVENT
DTSTART;TZID=America/Regina:20200509T090000
DTEND;TZID=America/Regina:20200509T110000
DTSTAMP:20260420T091412
CREATED:20200416T170654Z
LAST-MODIFIED:20200521T214601Z
UID:11834-1589014800-1589022000@saskcycling.ca
SUMMARY:East Qu'Appelle Crusade Virtual Cycling Race #4
DESCRIPTION:East Qu’Appelle Crusade Technical Package – Prarie Virtual Spring Series 2020 PDF \nRGT Cycling Smart Phone App Link: \nhttp://app.rgtcycling.com/event?code=HOVCTzpZwZ \n(Link for smart phone) \nPrairie Virtual Race Series #4 \n 
URL:https://saskcycling.ca/event/east-quappelle-crusade-virtual-cycling-race-4/
LOCATION:2205\, Canada
CATEGORIES:2023 Provincial Events
END:VEVENT
BEGIN:VEVENT
DTSTART;TZID=America/Regina:20200502T090000
DTEND;TZID=America/Regina:20200502T110000
DTSTAMP:20260420T091412
CREATED:20200416T165347Z
LAST-MODIFIED:20200503T032350Z
UID:11830-1588410000-1588417200@saskcycling.ca
SUMMARY:Riding Mountain Cruise Virtual Race #3.  Tech package is attached below.
DESCRIPTION:Riding Mountain Cruise Technical Package. \nResults: \n \n  \n  \n 
URL:https://saskcycling.ca/event/riding-mountain-cruise-digital-virtual-race-3/
LOCATION:2205\, Canada
CATEGORIES:2023 Provincial Events
END:VEVENT
BEGIN:VEVENT
DTSTART;TZID=America/Regina:20200502T080000
DTEND;TZID=America/Regina:20200503T170000
DTSTAMP:20260420T091412
CREATED:20200117T171705Z
LAST-MODIFIED:20200403T154114Z
UID:11427-1588406400-1588525200@saskcycling.ca
SUMMARY:Spring Classic Sk Cup Road #1 (cancelled)
DESCRIPTION:Moose Pavers annual Spring Classic road race-  Cancelled until further notice
URL:https://saskcycling.ca/event/spring-classic-sk-cup-1/
LOCATION:Moose Jaw\, Saskatchewan\, 53 Stadacona\, Moose Jaw\, Saskatchewan\, s6h1z2\, Canada
CATEGORIES:2023 Provincial Events
END:VEVENT
BEGIN:VEVENT
DTSTART;TZID=America/Regina:20200428T183000
DTEND;TZID=America/Regina:20200428T193000
DTSTAMP:20260420T091412
CREATED:20200420T214711Z
LAST-MODIFIED:20200423T191513Z
UID:11880-1588098600-1588102200@saskcycling.ca
SUMMARY:Question's for Commissaires
DESCRIPTION:Have you ever had a burning question in racing? SCA invites you to ask a Commissaire! The SCA is joining with Alberta Bicycle Association and Manitoba Cycling Association to ask some of our top UCI Commissaire’s all your questions regarding Cycling Rules and Regulations.  If you have a question you would like to ask please email it to sarah@saskcycling.ca. \nJoin Zoom Meeting \nhttps://us02web.zoom.us/j/82996574491?pwd=S1lWK25kSG9ZWmtEaVBWZmdsVW1Vdz09 \n  \nMeeting ID: 829 9657 4491 \nPassword: 014312
URL:https://saskcycling.ca/event/questions-for-commissaires/
LOCATION:2205\, Canada
CATEGORIES:2023 Provincial Events
END:VEVENT
END:VCALENDAR