BEGIN:VCALENDAR
VERSION:2.0
PRODID:-//Saskatchewan Cycling Association - ECPv6.15.20//NONSGML v1.0//EN
CALSCALE:GREGORIAN
METHOD:PUBLISH
X-ORIGINAL-URL:https://saskcycling.ca
X-WR-CALDESC:Events for Saskatchewan Cycling Association
REFRESH-INTERVAL;VALUE=DURATION:PT1H
X-Robots-Tag:noindex
X-PUBLISHED-TTL:PT1H
BEGIN:VTIMEZONE
TZID:America/Regina
BEGIN:STANDARD
TZOFFSETFROM:-0600
TZOFFSETTO:-0600
TZNAME:CST
DTSTART:20200101T000000
END:STANDARD
END:VTIMEZONE
BEGIN:VEVENT
DTSTART;VALUE=DATE:20231014
DTEND;VALUE=DATE:20231016
DTSTAMP:20260420T075405
CREATED:20230206T175949Z
LAST-MODIFIED:20230206T180020Z
UID:13216-1697241600-1697414399@saskcycling.ca
SUMMARY:CX #1 & #2- Regina Cycle Club
DESCRIPTION:Registration is TBA
URL:https://saskcycling.ca/event/cx-1-2-regina-cycle-club/
LOCATION:2205\, Canada
CATEGORIES:2023 Provincial Events
END:VEVENT
BEGIN:VEVENT
DTSTART;VALUE=DATE:20230902
DTEND;VALUE=DATE:20230904
DTSTAMP:20260420T075405
CREATED:20230206T175705Z
LAST-MODIFIED:20230206T175812Z
UID:13214-1693612800-1693785599@saskcycling.ca
SUMMARY:BMX Grands & Championships- Globe BMX
DESCRIPTION:Globe BMX is hosting the 2023 Grands and Championships
URL:https://saskcycling.ca/event/bmx-grands-championships-globe-bmx/
LOCATION:2205\, Canada
CATEGORIES:2023 Provincial Events
END:VEVENT
BEGIN:VEVENT
DTSTART;VALUE=DATE:20230827
DTEND;VALUE=DATE:20230828
DTSTAMP:20260420T075405
CREATED:20230206T175420Z
LAST-MODIFIED:20230206T175508Z
UID:13212-1693094400-1693180799@saskcycling.ca
SUMMARY:MTB Provincials- Wascana Challenge
DESCRIPTION:ORS is hosting the Wascana Challenge
URL:https://saskcycling.ca/event/mtb-provincials-wascana-challenge/
LOCATION:2205\, Canada
CATEGORIES:2023 Provincial Events
END:VEVENT
BEGIN:VEVENT
DTSTART;VALUE=DATE:20230819
DTEND;VALUE=DATE:20230821
DTSTAMP:20260420T075405
CREATED:20230206T174959Z
LAST-MODIFIED:20230206T175127Z
UID:13210-1692403200-1692575999@saskcycling.ca
SUMMARY:BMX Canada Cup #4 & #5 and Sask Cup BMX #3 & #4- Warman\, SK
DESCRIPTION:BMX Canada Cup #4 & #5 and Sask Cup BMX #3 & #4
URL:https://saskcycling.ca/event/bmx-canada-cup-4-5-and-sask-cup-bmx-3-4-warman-sk/
LOCATION:2205\, Canada
CATEGORIES:2023 Provincial Events
END:VEVENT
BEGIN:VEVENT
DTSTART;VALUE=DATE:20230708
DTEND;VALUE=DATE:20230710
DTSTAMP:20260420T075405
CREATED:20230206T174739Z
LAST-MODIFIED:20230206T174816Z
UID:13208-1688774400-1688947199@saskcycling.ca
SUMMARY:BMX #1 & #2- 13th Ave BMX
DESCRIPTION:13th Ave BMX is hosting #1 & #2
URL:https://saskcycling.ca/event/bmx-1-2-13th-ave-bmx/
LOCATION:2205\, Canada
CATEGORIES:2023 Provincial Events
END:VEVENT
BEGIN:VEVENT
DTSTART;VALUE=DATE:20230625
DTEND;VALUE=DATE:20230626
DTSTAMP:20260420T075405
CREATED:20230206T174423Z
LAST-MODIFIED:20230207T195947Z
UID:13206-1687651200-1687737599@saskcycling.ca
SUMMARY:MTB #3- Blackstrap Biter
DESCRIPTION:We want to know you’re going to attend!  Register by April 1st\, 2023 to be entered into a draw for a set of Shimano XT brakes ($400+).  You know you want to be in to win this prize!  We will be also drawing for some other cool prizes including winning your entry fee back!  Don’t miss out. \nRegistration includes a day of racing\, a delicious post-race meal\, and draw prizes. \nPlease purchase extra meal tickets for your family online when you register (limited to no tickets available for purchase on race-day). \nhttps://events.com/r/en_US/registration/2023-blackstrap-biter-sask-cup-dundurn-june-878359
URL:https://saskcycling.ca/event/mtb-3-blackstrap-biter/
LOCATION:2205\, Canada
CATEGORIES:2023 Provincial Events
END:VEVENT
BEGIN:VEVENT
DTSTART;VALUE=DATE:20230617
DTEND;VALUE=DATE:20230619
DTSTAMP:20260420T075405
CREATED:20230206T174211Z
LAST-MODIFIED:20230206T181717Z
UID:13204-1686960000-1687132799@saskcycling.ca
SUMMARY:Road #1- Regina Cycle Club
DESCRIPTION:Registration open TBA
URL:https://saskcycling.ca/event/road-1-regina-cycle-cross/
LOCATION:2205\, Canada
CATEGORIES:2023 Provincial Events
END:VEVENT
BEGIN:VEVENT
DTSTART;VALUE=DATE:20230528
DTEND;VALUE=DATE:20230529
DTSTAMP:20260420T075405
CREATED:20230206T174021Z
LAST-MODIFIED:20230206T174043Z
UID:13202-1685232000-1685318399@saskcycling.ca
SUMMARY:MTB #2- Buffalo Pounder
DESCRIPTION:Moose Jaw Pavers are once again hosting the Buffalo Pounder
URL:https://saskcycling.ca/event/mtb-2-buffalo-pounder/
LOCATION:2205\, Canada
CATEGORIES:2023 Provincial Events
END:VEVENT
BEGIN:VEVENT
DTSTART;VALUE=DATE:20230514
DTEND;VALUE=DATE:20230515
DTSTAMP:20260420T075405
CREATED:20230206T172900Z
LAST-MODIFIED:20230206T173759Z
UID:13200-1684022400-1684108799@saskcycling.ca
SUMMARY:MTB Sask Cup #1- Race the Ridge
DESCRIPTION:PCDI Race the Ridge is back!
URL:https://saskcycling.ca/event/mtb-sask-cup-1-race-the-ridge/
LOCATION:2205\, Canada
CATEGORIES:2023 Provincial Events
END:VEVENT
BEGIN:VEVENT
DTSTART;TZID=America/Regina:20221015T080000
DTEND;TZID=America/Regina:20221016T170000
DTSTAMP:20260420T075405
CREATED:20220214T174632Z
LAST-MODIFIED:20221004T194507Z
UID:12786-1665820800-1665939600@saskcycling.ca
SUMMARY:PCDI Crossin' the Ridge CX #3 & Provincials
DESCRIPTION:PCDI Crossin’ the Ridge Sask Cup 3 & Provincials is the final stop on the provincial Cyclocross racing series being held in 2022\, and we are offering a full range of categories for all ages and abilities. \nThe main event will be held on both Saturday\, October 15 and Sunday\, October 16\, 2022.  Please see below for each day’s race schedule.  Competitors will face a 2.5-3.5km course around the park.  Race durations will be as follows: \n\nCat 1\,2\,3&4 Men – 50 Minutes\nCat 1\,2&3 Women – 50 Minutes\nCat 5&6 Men – 30 Minutes\nCat 4\,5&6 Women – 30 Minutes\n\nTech package- https://docs.google.com/document/d/1wSbOazTHRLXD8EU8Bbxj7ecSlYdkuyZC/edit \nRegistration- https://ccnbikes.com/#!/events/2022-pcdi-crossin-the-ridge-sask-cup-3-provincials
URL:https://saskcycling.ca/event/pcdi-crossin-the-ridge-cx-1-2/
LOCATION:Langham\, SK\, 2205\, Canada
CATEGORIES:2023 Provincial Events
END:VEVENT
BEGIN:VEVENT
DTSTART;TZID=America/Regina:20221001T080000
DTEND;TZID=America/Regina:20221002T170000
DTSTAMP:20260420T075405
CREATED:20220824T173110Z
LAST-MODIFIED:20220926T182801Z
UID:13084-1664611200-1664730000@saskcycling.ca
SUMMARY:RCC Cyclocross #1 & #2
DESCRIPTION:RCC website information: \nhttps://reginacycleclub.ca/cyclocross/2022-regina-cx-sask-cup-weekend/ \n  \nThe registration link for event: \nhttps://zone4.ca/register.asp?id=29705
URL:https://saskcycling.ca/event/rcc-cyclocross-1-2/
LOCATION:2205\, Canada
CATEGORIES:2023 Provincial Events
END:VEVENT
BEGIN:VEVENT
DTSTART;TZID=America/Regina:20220903T080000
DTEND;TZID=America/Regina:20220904T170000
DTSTAMP:20260420T075405
CREATED:20220214T174355Z
LAST-MODIFIED:20220608T192353Z
UID:12784-1662192000-1662310800@saskcycling.ca
SUMMARY:13th Ave BMX Grands & Championships
DESCRIPTION:Event details coming soon!
URL:https://saskcycling.ca/event/13th-ave-bmx-grands-championships/
LOCATION:13th Ave BMX\, 5310 13th Ave\, Regina\, Saskatchewan\, S4W 1B6\, Canada
CATEGORIES:2023 Provincial Events
END:VEVENT
BEGIN:VEVENT
DTSTART;TZID=America/Regina:20220821T080000
DTEND;TZID=America/Regina:20220822T170000
DTSTAMP:20260420T075405
CREATED:20220214T174152Z
LAST-MODIFIED:20220608T192259Z
UID:12781-1661068800-1661187600@saskcycling.ca
SUMMARY:MJ Pavers Buffalo Pounder MTB Provincials
DESCRIPTION:Event details coming soon!
URL:https://saskcycling.ca/event/mj-pavers-buffalo-pounder-mtb-provincials/
LOCATION:2205\, Canada
CATEGORIES:2023 Provincial Events
END:VEVENT
BEGIN:VEVENT
DTSTART;TZID=America/Regina:20220807T080000
DTEND;TZID=America/Regina:20220807T170000
DTSTAMP:20260420T075405
CREATED:20220214T173932Z
LAST-MODIFIED:20220729T145046Z
UID:12777-1659859200-1659891600@saskcycling.ca
SUMMARY:ORS Wascana Challenge MTB #5
DESCRIPTION:Registration is open- https://ccnbikes.com/#!/events/wascana-challenge-sask-cup-mtb-5?fbclid=IwAR204AtczuCnfwHBTuZfa5kQzf8-0wpkNHelRLWaOoiAdfg4S4w0k63iuu8&fbclid=IwAR2k8vEHmJJvTqjLm3haNnE8iPXBTApKc6Hbo5bjXVT3JzWhaQWqpJinzNk&fs=e&s=cl
URL:https://saskcycling.ca/event/ors-wascana-challenge-mtb-5/
LOCATION:Wascana Trails
CATEGORIES:2023 Provincial Events
END:VEVENT
BEGIN:VEVENT
DTSTART;TZID=America/Regina:20220805T080000
DTEND;TZID=America/Regina:20220807T170000
DTSTAMP:20260420T075405
CREATED:20220214T173620Z
LAST-MODIFIED:20220708T155031Z
UID:12774-1659686400-1659891600@saskcycling.ca
SUMMARY:Canada Cup and Diamond BMX #3 & #4
DESCRIPTION:To find more details and to register: https://bmxcanadacup.ca/
URL:https://saskcycling.ca/event/canada-cup-and-diamond-bmx-3-4/
LOCATION:Warman\, SK\, 2205\, Canada
CATEGORIES:2023 Provincial Events
END:VEVENT
BEGIN:VEVENT
DTSTART;TZID=America/Regina:20220717T080000
DTEND;TZID=America/Regina:20220717T170000
DTSTAMP:20260420T075405
CREATED:20220214T173332Z
LAST-MODIFIED:20220708T154947Z
UID:12772-1658044800-1658077200@saskcycling.ca
SUMMARY:PA  Race the Red MTB #4- Cancelled
DESCRIPTION:Event details coming soon!
URL:https://saskcycling.ca/event/pa-race-the-red-mtb-4/
LOCATION:Prince Albert\, Saskatchewan\, Canada
CATEGORIES:2023 Provincial Events
END:VEVENT
BEGIN:VEVENT
DTSTART;TZID=America/Regina:20220626T080000
DTEND;TZID=America/Regina:20220626T170000
DTSTAMP:20260420T075405
CREATED:20220214T172327Z
LAST-MODIFIED:20220608T191929Z
UID:12770-1656230400-1656262800@saskcycling.ca
SUMMARY:NBR/BCW Blackstrap Biter MTB #3
DESCRIPTION:Event Link:\nhttps://events.com/r/en_US/registration/2022-blackstrap-biter-sask-cup-dundurn-june-839289 \nEvent Details: \n2022 Blackstrap Biter \nWe’re back\, baby!  Come and be a part of one of Saskatchewan’s best-attended mountain bike races. Racing is fun at the ‘Strap. \nPRE-REGISTRATION DRAW PRIZE:  Muc-Off Pressure Washer!!!! \nPre-Registration Prize Draw Deadline:  June 15th (draw on June 16th) \n  \nRegistration includes a day of racing\, a delicious post-race meal\, and draw prizes. \nPlease purchase extra meal tickets for your family online when you register (very limited tickets available for purchase on race-day). \n  \nRace Date: June 26th\, 2022 \nLocation: Blackstrap Provincial Park – 45 km S of Saskatoon (Trailhead Parking Lot) \nCost: \n$60.00 (plus online fees) until midnight Friday\, June 24th \nSpecial Youth Pricing for U13 and U15 \n$90.00 after June 24th (we really\, really don’t want late registrations due to the online timing system) \nSchedule: \n9:00-10:15 AM Registration \n11:00 AM Race Starts \n1:00 PM Food and Prizes! \n**a SCA yearly or one day license is required for this event (www.saskcycling.ca )
URL:https://saskcycling.ca/event/nbr-bcw-blackstrap-biter-mtb-3/
LOCATION:Blackstrap Provincial Park\, Dundurn\, SK\, S0K 1K0\, Canada
CATEGORIES:2023 Provincial Events
END:VEVENT
BEGIN:VEVENT
DTSTART;TZID=America/Regina:20220612T080000
DTEND;TZID=America/Regina:20220612T170000
DTSTAMP:20260420T075405
CREATED:20220214T171936Z
LAST-MODIFIED:20220601T182139Z
UID:12768-1655020800-1655053200@saskcycling.ca
SUMMARY:PCDI Ride the Ridge MTB #2
DESCRIPTION:Direct link for registration: https://ccnbikes.com/#!/events/2022-pcdi-ride-the-ridge-sask-cup-2 \nFollow the event on Facebook! https://www.facebook.com/events/7797497513601398/ \nClub webpage link for Ride the Ridge: https://www.prairiecycling.com/ride_the_ridge/
URL:https://saskcycling.ca/event/pcdi-ride-the-ridge-mtb-2/
LOCATION:Langham\, SK\, 2205\, Canada
CATEGORIES:2023 Provincial Events
END:VEVENT
BEGIN:VEVENT
DTSTART;TZID=America/Regina:20220611T080000
DTEND;TZID=America/Regina:20220612T170000
DTSTAMP:20260420T075405
CREATED:20220214T171544Z
LAST-MODIFIED:20220527T165852Z
UID:12766-1654934400-1655053200@saskcycling.ca
SUMMARY:Globe BMX #1 &#2
DESCRIPTION:Registration: http://o https://globebmx.com/2022-saskatchewan-cup-bmx-series-1-2/ \n 
URL:https://saskcycling.ca/event/globe-bmx-1-2/
LOCATION:Globe BMX\, Saskatchewan\, Saskatoon\, Canada\, Canada
CATEGORIES:2023 Provincial Events
END:VEVENT
BEGIN:VEVENT
DTSTART;TZID=America/Regina:20220528T080000
DTEND;TZID=America/Regina:20220529T170000
DTSTAMP:20260420T075405
CREATED:20220214T170834Z
LAST-MODIFIED:20220420T215759Z
UID:12764-1653724800-1653843600@saskcycling.ca
SUMMARY:Cycledelia Tour de Sask Road
DESCRIPTION:Check the Cycledelia website http://www.tourdesask.ca/  for the most up to date information on event locations and times. \nOnline registration: https://ccnbikes.com/tour-de-sask-2022 \nTechnical Guide: Tour de Sask Technical Guide
URL:https://saskcycling.ca/event/cycledelia-tour-de-sask-road/
LOCATION:Saskatoon\, SK\, Saskatchewan\, Canada
CATEGORIES:2023 Provincial Events
END:VEVENT
BEGIN:VEVENT
DTSTART;TZID=America/Regina:20220515T080000
DTEND;TZID=America/Regina:20220515T170000
DTSTAMP:20260420T075405
CREATED:20220214T170558Z
LAST-MODIFIED:20220506T162523Z
UID:12762-1652601600-1652634000@saskcycling.ca
SUMMARY:EQC Kapo Kraze MTB #1
DESCRIPTION:Register now: https://zone4.ca/register.asp?id=28942 \nTechnical Guide: Kapo Kraze XC MTB race tech guide
URL:https://saskcycling.ca/event/eqc-kapo-kraze-mtb-1/
LOCATION:Esterhazy\, Saskatchewan\, Canada
CATEGORIES:2023 Provincial Events
END:VEVENT
BEGIN:VEVENT
DTSTART;TZID=America/Regina:20220330T183000
DTEND;TZID=America/Regina:20220330T193000
DTSTAMP:20260420T075405
CREATED:20220214T194959Z
LAST-MODIFIED:20220307T155655Z
UID:12789-1648665000-1648668600@saskcycling.ca
SUMMARY:SCA AGM
DESCRIPTION:To see all details and to register click here
URL:https://saskcycling.ca/event/sca-agm-2/
LOCATION:2205\, Canada
CATEGORIES:2023 Provincial Events
END:VEVENT
BEGIN:VEVENT
DTSTART;TZID=America/Regina:20211023T080000
DTEND;TZID=America/Regina:20211024T170000
DTSTAMP:20260420T075405
CREATED:20210601T230945Z
LAST-MODIFIED:20211018T160539Z
UID:12484-1634976000-1635094800@saskcycling.ca
SUMMARY:RCC Sask Cup CX 1& 2
DESCRIPTION:RCC is hosting Sask Cup CX 1&2.  To register click here: https://zone4.ca/register.asp?id=27201&lan=1&cartlevel=1 \nRace organizers have required that ages 12+ must be fully vaccinated.  See the Technical Package here.
URL:https://saskcycling.ca/event/rcc-sask-cup-cx-5-provincials/
LOCATION:Regina\, Regina\, SK\, S4P0S4\, Canada
CATEGORIES:2023 Provincial Events
END:VEVENT
BEGIN:VEVENT
DTSTART;TZID=America/Regina:20210829T080000
DTEND;TZID=America/Regina:20210829T170000
DTSTAMP:20260420T075405
CREATED:20210601T230304Z
LAST-MODIFIED:20210729T203749Z
UID:12478-1630224000-1630256400@saskcycling.ca
SUMMARY:EQC Kapo Kraze MTB Provincials
DESCRIPTION:
URL:https://saskcycling.ca/event/eqc-kapo-kraze-mtb-provincials/
LOCATION:Esterhazy\, Saskatchewan\, Canada
CATEGORIES:2023 Provincial Events
END:VEVENT
BEGIN:VEVENT
DTSTART;TZID=America/Regina:20210822T080000
DTEND;TZID=America/Regina:20210822T170000
DTSTAMP:20260420T075405
CREATED:20210601T230103Z
LAST-MODIFIED:20210803T145510Z
UID:12474-1629619200-1629651600@saskcycling.ca
SUMMARY:PCDI Ride the Ridge MTB Sask Cup 2
DESCRIPTION:Registration is now open https://ccnbikes.com/#!/events/pcdi-ride-the-ridge-sask-cup-2
URL:https://saskcycling.ca/event/pcdi-ride-the-ridge-mtb-sask-cup-2/
LOCATION:Langham\, SK\, 2205\, Canada
CATEGORIES:2023 Provincial Events
END:VEVENT
BEGIN:VEVENT
DTSTART;TZID=America/Regina:20210821T080000
DTEND;TZID=America/Regina:20210822T170000
DTSTAMP:20260420T075405
CREATED:20210601T225900Z
LAST-MODIFIED:20210601T225925Z
UID:12468-1629532800-1629651600@saskcycling.ca
SUMMARY:Diamond BMX Grands & Provincials
DESCRIPTION:Diamond BMX hosting the Grands & Provincials.  Check out more info later
URL:https://saskcycling.ca/event/diamond-bmx-grands-provincials/
LOCATION:Warman\, SK\, 2205\, Canada
CATEGORIES:2023 Provincial Events
END:VEVENT
BEGIN:VEVENT
DTSTART;TZID=America/Regina:20210808T080000
DTEND;TZID=America/Regina:20210808T170000
DTSTAMP:20260420T075405
CREATED:20210601T225624Z
LAST-MODIFIED:20210716T193625Z
UID:12465-1628409600-1628442000@saskcycling.ca
SUMMARY:Hillside Class "Race the Red" MTB Sask Cup 1
DESCRIPTION:Hillside Classic “Race the Red” 2021 \nhttps://ccnbikes.com/#!/events/hillside-classic-race-the-red-2021 \n 
URL:https://saskcycling.ca/event/rock-n-road-mtb-sask-cup-1/
LOCATION:Prince Albert\, Saskatchewan\, Canada
CATEGORIES:2023 Provincial Events
END:VEVENT
BEGIN:VEVENT
DTSTART;TZID=America/Regina:20210807T080000
DTEND;TZID=America/Regina:20210808T170000
DTSTAMP:20260420T075405
CREATED:20210601T225336Z
LAST-MODIFIED:20210716T190952Z
UID:12462-1628323200-1628442000@saskcycling.ca
SUMMARY:13th Ave BMX Sask Cup 3&4
DESCRIPTION:2021 Saskatchewan Cup BMX Series #3 & #4\nhttps://www.eventbrite.ca/e/2021-saskatchewan-cup-bmx-series-3-tickets-162194216267?aff=ebdsoporgprofile&fbclid=IwAR0FuWCXM5J9vDVtY3Qr03di0X1WVNXJGDqXlZuf2Ip0voF4qYv7U-3z85g \nhttps://www.eventbrite.ca/e/2021-saskatchewan-cup-bmx-series-4-tickets-162195171123?aff=ebdsoporgprofile&fbclid=IwAR3Yg7L5Sut_EXL0MFky3FF0yFDKm_a8rGbz3Ta6CRaWrlhekgn2d86Lqcs
URL:https://saskcycling.ca/event/13th-ave-bmx-sask-cup-34/
LOCATION:5310 13th ave\, regina\, sk\, 5310 13th Ave\, Regina\, Saskatchewan\, Canada
CATEGORIES:2023 Provincial Events
END:VEVENT
BEGIN:VEVENT
DTSTART;TZID=America/Regina:20210724T080000
DTEND;TZID=America/Regina:20210725T170000
DTSTAMP:20260420T075405
CREATED:20210601T225047Z
LAST-MODIFIED:20210716T190653Z
UID:12460-1627113600-1627232400@saskcycling.ca
SUMMARY:Globe BMX Sask Cup 1&2
DESCRIPTION:2021 Saskatchewan Cup BMX Series #1 & #2\nhttps://globebmx.com/racing/2021-saskatchewan-cup-1-and-2/\nRACE SCHEDULES:\nCheck In: 8:45 AM  – 10:00 AM \n\nConfirm attendance\nShow SCA race license (In-Province or UCI)\nEnsure name\, age\, category and plate number are correct\nFill out paperwork and receive your plate number if required\nLate check-ins may be excluded from racing\n\n\n10:30AM – Motos Posted: Original – evening prior online here\, after checkin/revised if needed \n\nCheck for your moto number and lane assignment for all 3 of your moto’s.  If required\, you will be informed of a semi final race. Semi and Final lanes are assigned by moto finishing positions\, not pre-assigned.\n\n\n10:45AM – Staging \n\nIt is your responsibility to be in staging in time for your moto and enter your assigned gate number when directed to take the gate.\n\n\n10:45AM – Strider & Pedal event (4 and under) \n\nThere will be a 4 and under strider / pedal event at ~ 10:45am and again during the break between the 2nd and 3rd moto’s.\nThere is no cost for the strider event.\nInsurance provided by Saskatchewan Cycling Association\, once a waiver is signed if you do not already have a General license.\nSafety gear for striders is best effort\, must have a helmet.\n\n\nRace Times: \nSaturday 11:00 am\nSunday 11:00 am \n\nPractice: \n\n\n\n\nTIME\nAGE\n\n\n9:00 – 9:15 AM\n9 & Under\n\n\n9:15 – 9:30 AM\n10 – 13\n\n\n9:30 – 9:45 AM\n14 & Over\n\n\n9:45 – 10:00 AM\n9 & Under\n\n\n10:00 – 10:15 AM\n10 – 13\n\n\n10:15 – 10:30 AM\n14 & Over\n\n\n\n\n\nFEES:\nRider Race Registration (per day):  $40 paid through calendar registration app\n*Striders – no fee – sign up on site
URL:https://saskcycling.ca/event/globe-bmx-sask-cup-12/
LOCATION:Lakewood Park\, Saskatoon\, 2205\, Canada
CATEGORIES:2023 Provincial Events
END:VEVENT
BEGIN:VEVENT
DTSTART;TZID=America/Regina:20210724T080000
DTEND;TZID=America/Regina:20210725T170000
DTSTAMP:20260420T075405
CREATED:20210601T224737Z
LAST-MODIFIED:20210707T190427Z
UID:12458-1627113600-1627232400@saskcycling.ca
SUMMARY:EQC Saskota Sizzler Sask Cup Road
DESCRIPTION:Registration is open! https://zone4.ca/register.asp?id=26426&lan=1&cartlevel=1 \nTechnical Guide- https://eqc.saskcycling.ca/EQC%20Road%20Race%20and%20Time%20Trial%20Bible%202021.pdf \n 
URL:https://saskcycling.ca/event/eqc-saskota-sizzler-sask-cup-road/
LOCATION:Esterhazy\, Saskatchewan\, Canada
CATEGORIES:2023 Provincial Events
END:VEVENT
END:VCALENDAR